BEGIN:VCALENDAR
VERSION:2.0
PRODID:-//Thunder Road Aberdeen - ECPv4.6.1//NONSGML v1.0//EN
CALSCALE:GREGORIAN
METHOD:PUBLISH
X-WR-CALNAME:Thunder Road Aberdeen
X-ORIGINAL-URL:https://thunderroad.info/aberdeen
X-WR-CALDESC:Events for Thunder Road Aberdeen
BEGIN:VEVENT
DTSTART;TZID=UTC-6:20210614T120000
DTEND;TZID=UTC-6:20210614T210000
DTSTAMP:20260425T200156
CREATED:20210124T191316Z
LAST-MODIFIED:20210124T191316Z
UID:4786-1623672000-1623704400@thunderroad.info
SUMMARY:Monday\, June 14\, 2021
DESCRIPTION:
URL:https://thunderroad.info/aberdeen/hour/monday-june-14-2021/
END:VEVENT
END:VCALENDAR