BEGIN:VCALENDAR
VERSION:2.0
PRODID:-//Thunder Road Aberdeen - ECPv4.6.1//NONSGML v1.0//EN
CALSCALE:GREGORIAN
METHOD:PUBLISH
X-WR-CALNAME:Thunder Road Aberdeen
X-ORIGINAL-URL:https://thunderroad.info/aberdeen
X-WR-CALDESC:Events for Thunder Road Aberdeen
BEGIN:VEVENT
DTSTART;TZID=UTC-6:20230703T120000
DTEND;TZID=UTC-6:20230703T210000
DTSTAMP:20260424T074003
CREATED:20230109T181535Z
LAST-MODIFIED:20230627T180745Z
UID:5473-1688385600-1688418000@thunderroad.info
SUMMARY:Monday\, July 3\, 2023
DESCRIPTION:
URL:https://thunderroad.info/aberdeen/hour/monday-july-3-2023/
END:VEVENT
END:VCALENDAR