BEGIN:VCALENDAR
VERSION:2.0
PRODID:-//Thunder Road Aberdeen - ECPv4.6.1//NONSGML v1.0//EN
CALSCALE:GREGORIAN
METHOD:PUBLISH
X-WR-CALNAME:Thunder Road Aberdeen
X-ORIGINAL-URL:https://thunderroad.info/aberdeen
X-WR-CALDESC:Events for Thunder Road Aberdeen
BEGIN:VEVENT
DTSTART;TZID=UTC-6:20250714T120000
DTEND;TZID=UTC-6:20250714T213000
DTSTAMP:20260422T141309
CREATED:20250205T004340Z
LAST-MODIFIED:20250205T004340Z
UID:6162-1752494400-1752528600@thunderroad.info
SUMMARY:Monday\, July 14\, 2025
DESCRIPTION:
URL:https://thunderroad.info/aberdeen/hour/monday-july-14-2025/
END:VEVENT
END:VCALENDAR