BEGIN:VCALENDAR
VERSION:2.0
PRODID:-//Thunder Road Aberdeen - ECPv4.6.1//NONSGML v1.0//EN
CALSCALE:GREGORIAN
METHOD:PUBLISH
X-WR-CALNAME:Thunder Road Aberdeen
X-ORIGINAL-URL:https://thunderroad.info/aberdeen
X-WR-CALDESC:Events for Thunder Road Aberdeen
BEGIN:VEVENT
DTSTART;TZID=UTC-6:20260713T120000
DTEND;TZID=UTC-6:20260713T213000
DTSTAMP:20260422T044319
CREATED:20260225T191909Z
LAST-MODIFIED:20260225T191909Z
UID:6427-1783944000-1783978200@thunderroad.info
SUMMARY:Monday\, July 13\, 2026
DESCRIPTION:
URL:https://thunderroad.info/aberdeen/hour/monday-july-13-2026/
END:VEVENT
END:VCALENDAR