BEGIN:VCALENDAR
VERSION:2.0
PRODID:-//Thunder Road Aberdeen - ECPv4.6.1//NONSGML v1.0//EN
CALSCALE:GREGORIAN
METHOD:PUBLISH
X-WR-CALNAME:Thunder Road Aberdeen
X-ORIGINAL-URL:https://thunderroad.info/aberdeen
X-WR-CALDESC:Events for Thunder Road Aberdeen
BEGIN:VEVENT
DTSTART;TZID=UTC-6:20210809T120000
DTEND;TZID=UTC-6:20210809T210000
DTSTAMP:20260425T171022
CREATED:20210124T191344Z
LAST-MODIFIED:20210124T191344Z
UID:4842-1628510400-1628542800@thunderroad.info
SUMMARY:Monday\, August 9\, 2021
DESCRIPTION:
URL:https://thunderroad.info/aberdeen/hour/monday-august-9-2021/
END:VEVENT
END:VCALENDAR