BEGIN:VCALENDAR
VERSION:2.0
PRODID:-//Thunder Road Aberdeen - ECPv4.6.1//NONSGML v1.0//EN
CALSCALE:GREGORIAN
METHOD:PUBLISH
X-WR-CALNAME:Thunder Road Aberdeen
X-ORIGINAL-URL:https://thunderroad.info/aberdeen
X-WR-CALDESC:Events for Thunder Road Aberdeen
BEGIN:VEVENT
DTSTART;TZID=UTC-6:20240805T120000
DTEND;TZID=UTC-6:20240805T210000
DTSTAMP:20260425T101845
CREATED:20240301T014044Z
LAST-MODIFIED:20240301T014044Z
UID:5881-1722859200-1722891600@thunderroad.info
SUMMARY:Monday\, August 5\, 2024
DESCRIPTION:
URL:https://thunderroad.info/aberdeen/hour/monday-august-5-2024/
END:VEVENT
END:VCALENDAR