BEGIN:VCALENDAR
VERSION:2.0
PRODID:-//Thunder Road Aberdeen - ECPv4.6.1//NONSGML v1.0//EN
CALSCALE:GREGORIAN
METHOD:PUBLISH
X-WR-CALNAME:Thunder Road Aberdeen
X-ORIGINAL-URL:https://thunderroad.info/aberdeen
X-WR-CALDESC:Events for Thunder Road Aberdeen
BEGIN:VEVENT
DTSTART;TZID=UTC-6:20250804T120000
DTEND;TZID=UTC-6:20250804T210000
DTSTAMP:20260422T124926
CREATED:20250205T004351Z
LAST-MODIFIED:20250205T004351Z
UID:6183-1754308800-1754341200@thunderroad.info
SUMMARY:Monday\, August 4\, 2025
DESCRIPTION:
URL:https://thunderroad.info/aberdeen/hour/monday-august-4-2025/
END:VEVENT
END:VCALENDAR