BEGIN:VCALENDAR
VERSION:2.0
PRODID:-//Thunder Road Aberdeen - ECPv4.6.1//NONSGML v1.0//EN
CALSCALE:GREGORIAN
METHOD:PUBLISH
X-WR-CALNAME:Thunder Road Aberdeen
X-ORIGINAL-URL:https://thunderroad.info/aberdeen
X-WR-CALDESC:Events for Thunder Road Aberdeen
BEGIN:VEVENT
DTSTART;TZID=UTC-6:20230821T120000
DTEND;TZID=UTC-6:20230821T190000
DTSTAMP:20260424T062302
CREATED:20230109T181552Z
LAST-MODIFIED:20230820T183031Z
UID:5522-1692619200-1692644400@thunderroad.info
SUMMARY:Monday\, August 21\, 2023
DESCRIPTION:
URL:https://thunderroad.info/aberdeen/hour/monday-august-21-2023/
END:VEVENT
END:VCALENDAR