BEGIN:VCALENDAR
VERSION:2.0
PRODID:-//Thunder Road Aberdeen - ECPv4.6.1//NONSGML v1.0//EN
CALSCALE:GREGORIAN
METHOD:PUBLISH
X-WR-CALNAME:Thunder Road Aberdeen
X-ORIGINAL-URL:https://thunderroad.info/aberdeen
X-WR-CALDESC:Events for Thunder Road Aberdeen
BEGIN:VEVENT
DTSTART;TZID=UTC-6:20250818T170000
DTEND;TZID=UTC-6:20250818T190000
DTSTAMP:20260424T095349
CREATED:20250205T004358Z
LAST-MODIFIED:20250205T004358Z
UID:6197-1755536400-1755543600@thunderroad.info
SUMMARY:Monday\, August 18\, 2025
DESCRIPTION:
URL:https://thunderroad.info/aberdeen/hour/monday-august-18-2025/
END:VEVENT
END:VCALENDAR