BEGIN:VCALENDAR
VERSION:2.0
PRODID:-//Thunder Road Aberdeen - ECPv4.6.1//NONSGML v1.0//EN
CALSCALE:GREGORIAN
METHOD:PUBLISH
X-WR-CALNAME:Thunder Road Aberdeen
X-ORIGINAL-URL:https://thunderroad.info/aberdeen
X-WR-CALDESC:Events for Thunder Road Aberdeen
BEGIN:VEVENT
DTSTART;TZID=UTC-6:20230814T120000
DTEND;TZID=UTC-6:20230814T193000
DTSTAMP:20260424T062230
CREATED:20230109T181549Z
LAST-MODIFIED:20230806T233821Z
UID:5515-1692014400-1692041400@thunderroad.info
SUMMARY:Monday\, August 14\, 2023
DESCRIPTION:
URL:https://thunderroad.info/aberdeen/hour/monday-august-14-2023/
END:VEVENT
END:VCALENDAR