BEGIN:VCALENDAR
VERSION:2.0
PRODID:-//Thunder Road Aberdeen - ECPv4.6.1//NONSGML v1.0//EN
CALSCALE:GREGORIAN
METHOD:PUBLISH
X-WR-CALNAME:Thunder Road Aberdeen
X-ORIGINAL-URL:https://thunderroad.info/aberdeen
X-WR-CALDESC:Events for Thunder Road Aberdeen
BEGIN:VEVENT
DTSTART;TZID=UTC-6:20250523T120000
DTEND;TZID=UTC-6:20250523T210000
DTSTAMP:20260422T185421
CREATED:20250205T004311Z
LAST-MODIFIED:20250205T004311Z
UID:6110-1748001600-1748034000@thunderroad.info
SUMMARY:Friday\, May 23\, 2025
DESCRIPTION:
URL:https://thunderroad.info/aberdeen/hour/friday-may-23-2025/
END:VEVENT
END:VCALENDAR