BEGIN:VCALENDAR
VERSION:2.0
PRODID:-//Thunder Road Aberdeen - ECPv4.6.1//NONSGML v1.0//EN
CALSCALE:GREGORIAN
METHOD:PUBLISH
X-WR-CALNAME:Thunder Road Aberdeen
X-ORIGINAL-URL:https://thunderroad.info/aberdeen
X-WR-CALDESC:Events for Thunder Road Aberdeen
BEGIN:VEVENT
DTSTART;TZID=UTC-6:20230630T120000
DTEND;TZID=UTC-6:20230630T213000
DTSTAMP:20260424T073259
CREATED:20230109T181533Z
LAST-MODIFIED:20230109T181533Z
UID:5470-1688126400-1688160600@thunderroad.info
SUMMARY:Friday\, June 30\, 2023
DESCRIPTION:
URL:https://thunderroad.info/aberdeen/hour/friday-june-30-2023/
END:VEVENT
END:VCALENDAR