BEGIN:VCALENDAR
VERSION:2.0
PRODID:-//Thunder Road Aberdeen - ECPv4.6.1//NONSGML v1.0//EN
CALSCALE:GREGORIAN
METHOD:PUBLISH
X-WR-CALNAME:Thunder Road Aberdeen
X-ORIGINAL-URL:https://thunderroad.info/aberdeen
X-WR-CALDESC:Events for Thunder Road Aberdeen
BEGIN:VEVENT
DTSTART;TZID=UTC-6:20260626T120000
DTEND;TZID=UTC-6:20260626T213000
DTSTAMP:20260422T012837
CREATED:20260225T191844Z
LAST-MODIFIED:20260225T191844Z
UID:6410-1782475200-1782509400@thunderroad.info
SUMMARY:Friday\, June 26\, 2026
DESCRIPTION:
URL:https://thunderroad.info/aberdeen/hour/friday-june-26-2026/
END:VEVENT
END:VCALENDAR