BEGIN:VCALENDAR
VERSION:2.0
PRODID:-//Thunder Road Aberdeen - ECPv4.6.1//NONSGML v1.0//EN
CALSCALE:GREGORIAN
METHOD:PUBLISH
X-WR-CALNAME:Thunder Road Aberdeen
X-ORIGINAL-URL:https://thunderroad.info/aberdeen
X-WR-CALDESC:Events for Thunder Road Aberdeen
BEGIN:VEVENT
DTSTART;TZID=UTC-6:20240621T120000
DTEND;TZID=UTC-6:20240621T213000
DTSTAMP:20260423T153538
CREATED:20240301T014028Z
LAST-MODIFIED:20240301T014028Z
UID:5836-1718971200-1719005400@thunderroad.info
SUMMARY:Friday\, June 21\, 2024
DESCRIPTION:
URL:https://thunderroad.info/aberdeen/hour/friday-june-21-2024/
END:VEVENT
END:VCALENDAR