BEGIN:VCALENDAR
VERSION:2.0
PRODID:-//Thunder Road Aberdeen - ECPv4.6.1//NONSGML v1.0//EN
CALSCALE:GREGORIAN
METHOD:PUBLISH
X-WR-CALNAME:Thunder Road Aberdeen
X-ORIGINAL-URL:https://thunderroad.info/aberdeen
X-WR-CALDESC:Events for Thunder Road Aberdeen
BEGIN:VEVENT
DTSTART;TZID=UTC-6:20260612T120000
DTEND;TZID=UTC-6:20260612T213000
DTSTAMP:20260422T012838
CREATED:20260225T191820Z
LAST-MODIFIED:20260225T191820Z
UID:6396-1781265600-1781299800@thunderroad.info
SUMMARY:Friday\, June 12\, 2026
DESCRIPTION:
URL:https://thunderroad.info/aberdeen/hour/friday-june-12-2026/
END:VEVENT
END:VCALENDAR