BEGIN:VCALENDAR
VERSION:2.0
PRODID:-//Thunder Road Aberdeen - ECPv4.6.1//NONSGML v1.0//EN
CALSCALE:GREGORIAN
METHOD:PUBLISH
X-WR-CALNAME:Thunder Road Aberdeen
X-ORIGINAL-URL:https://thunderroad.info/aberdeen
X-WR-CALDESC:Events for Thunder Road Aberdeen
BEGIN:VEVENT
DTSTART;TZID=UTC-6:20210611T120000
DTEND;TZID=UTC-6:20210611T213000
DTSTAMP:20260425T200112
CREATED:20210124T191314Z
LAST-MODIFIED:20210124T191314Z
UID:4783-1623412800-1623447000@thunderroad.info
SUMMARY:Friday\, June 11\, 2021
DESCRIPTION:
URL:https://thunderroad.info/aberdeen/hour/friday-june-11-2021/
END:VEVENT
END:VCALENDAR