BEGIN:VCALENDAR
VERSION:2.0
PRODID:-//Thunder Road Aberdeen - ECPv4.6.1//NONSGML v1.0//EN
CALSCALE:GREGORIAN
METHOD:PUBLISH
X-WR-CALNAME:Thunder Road Aberdeen
X-ORIGINAL-URL:https://thunderroad.info/aberdeen
X-WR-CALDESC:Events for Thunder Road Aberdeen
BEGIN:VEVENT
DTSTART;TZID=UTC-6:20210709T120000
DTEND;TZID=UTC-6:20210709T213000
DTSTAMP:20260425T183614
CREATED:20210124T191330Z
LAST-MODIFIED:20210124T191330Z
UID:4811-1625832000-1625866200@thunderroad.info
SUMMARY:Friday\, July 9\, 2021
DESCRIPTION:
URL:https://thunderroad.info/aberdeen/hour/friday-july-9-2021/
END:VEVENT
END:VCALENDAR