BEGIN:VCALENDAR
VERSION:2.0
PRODID:-//Thunder Road Aberdeen - ECPv4.6.1//NONSGML v1.0//EN
CALSCALE:GREGORIAN
METHOD:PUBLISH
X-WR-CALNAME:Thunder Road Aberdeen
X-ORIGINAL-URL:https://thunderroad.info/aberdeen
X-WR-CALDESC:Events for Thunder Road Aberdeen
BEGIN:VEVENT
DTSTART;TZID=UTC-6:20220708T120000
DTEND;TZID=UTC-6:20220708T213000
DTSTAMP:20260425T011127
CREATED:20220216T232951Z
LAST-MODIFIED:20220216T232951Z
UID:5137-1657281600-1657315800@thunderroad.info
SUMMARY:Friday\, July 8\, 2022
DESCRIPTION:
URL:https://thunderroad.info/aberdeen/hour/friday-july-8-2022/
END:VEVENT
END:VCALENDAR