BEGIN:VCALENDAR
VERSION:2.0
PRODID:-//Thunder Road Aberdeen - ECPv4.6.1//NONSGML v1.0//EN
CALSCALE:GREGORIAN
METHOD:PUBLISH
X-WR-CALNAME:Thunder Road Aberdeen
X-ORIGINAL-URL:https://thunderroad.info/aberdeen
X-WR-CALDESC:Events for Thunder Road Aberdeen
BEGIN:VEVENT
DTSTART;TZID=UTC-6:20260703T120000
DTEND;TZID=UTC-6:20260703T210000
DTSTAMP:20260422T012836
CREATED:20260225T191857Z
LAST-MODIFIED:20260225T191857Z
UID:6417-1783080000-1783112400@thunderroad.info
SUMMARY:Friday\, July 3\, 2026
DESCRIPTION:
URL:https://thunderroad.info/aberdeen/hour/friday-july-3-2026/
END:VEVENT
END:VCALENDAR