BEGIN:VCALENDAR
VERSION:2.0
PRODID:-//Thunder Road Aberdeen - ECPv4.6.1//NONSGML v1.0//EN
CALSCALE:GREGORIAN
METHOD:PUBLISH
X-WR-CALNAME:Thunder Road Aberdeen
X-ORIGINAL-URL:https://thunderroad.info/aberdeen
X-WR-CALDESC:Events for Thunder Road Aberdeen
BEGIN:VEVENT
DTSTART;TZID=UTC-6:20230721T120000
DTEND;TZID=UTC-6:20230721T213000
DTSTAMP:20260424T073735
CREATED:20230109T181540Z
LAST-MODIFIED:20230109T181540Z
UID:5491-1689940800-1689975000@thunderroad.info
SUMMARY:Friday\, July 21\, 2023
DESCRIPTION:
URL:https://thunderroad.info/aberdeen/hour/friday-july-21-2023/
END:VEVENT
END:VCALENDAR