BEGIN:VCALENDAR
VERSION:2.0
PRODID:-//Thunder Road Aberdeen - ECPv4.6.1//NONSGML v1.0//EN
CALSCALE:GREGORIAN
METHOD:PUBLISH
X-WR-CALNAME:Thunder Road Aberdeen
X-ORIGINAL-URL:https://thunderroad.info/aberdeen
X-WR-CALDESC:Events for Thunder Road Aberdeen
BEGIN:VEVENT
DTSTART;TZID=UTC-6:20230804T120000
DTEND;TZID=UTC-6:20230804T213000
DTSTAMP:20260424T062232
CREATED:20230109T181545Z
LAST-MODIFIED:20230109T181545Z
UID:5505-1691150400-1691184600@thunderroad.info
SUMMARY:Friday\, August 4\, 2023
DESCRIPTION:
URL:https://thunderroad.info/aberdeen/hour/friday-august-4-2023/
END:VEVENT
END:VCALENDAR