BEGIN:VCALENDAR
VERSION:2.0
PRODID:-//Thunder Road Aberdeen - ECPv4.6.1//NONSGML v1.0//EN
CALSCALE:GREGORIAN
METHOD:PUBLISH
X-WR-CALNAME:Thunder Road Aberdeen
X-ORIGINAL-URL:https://thunderroad.info/aberdeen
X-WR-CALDESC:Events for Thunder Road Aberdeen
BEGIN:VEVENT
DTSTART;TZID=UTC-6:20260828T170000
DTEND;TZID=UTC-6:20260828T200000
DTSTAMP:20260422T061904
CREATED:20260225T192025Z
LAST-MODIFIED:20260225T192025Z
UID:6469-1787936400-1787947200@thunderroad.info
SUMMARY:Friday\, August 28\, 2026
DESCRIPTION:
URL:https://thunderroad.info/aberdeen/hour/friday-august-28-2026/
END:VEVENT
END:VCALENDAR