BEGIN:VCALENDAR
VERSION:2.0
PRODID:-//Thunder Road Aberdeen - ECPv4.6.1//NONSGML v1.0//EN
CALSCALE:GREGORIAN
METHOD:PUBLISH
X-WR-CALNAME:Thunder Road Aberdeen
X-ORIGINAL-URL:https://thunderroad.info/aberdeen
X-WR-CALDESC:Events for Thunder Road Aberdeen
BEGIN:VEVENT
DTSTART;TZID=UTC-6:20210827T170000
DTEND;TZID=UTC-6:20210827T200000
DTSTAMP:20260425T171026
CREATED:20210124T191350Z
LAST-MODIFIED:20210124T191350Z
UID:4856-1630083600-1630094400@thunderroad.info
SUMMARY:Friday\, August 27\, 2021
DESCRIPTION:
URL:https://thunderroad.info/aberdeen/hour/friday-august-27-2021/
END:VEVENT
END:VCALENDAR