BEGIN:VCALENDAR
VERSION:2.0
PRODID:-//Thunder Road Aberdeen - ECPv4.6.1//NONSGML v1.0//EN
CALSCALE:GREGORIAN
METHOD:PUBLISH
X-WR-CALNAME:Thunder Road Aberdeen
X-ORIGINAL-URL:https://thunderroad.info/aberdeen
X-WR-CALDESC:Events for Thunder Road Aberdeen
BEGIN:VEVENT
DTSTART;TZID=UTC-6:20220819T120000
DTEND;TZID=UTC-6:20220819T210000
DTSTAMP:20260424T222013
CREATED:20220216T233037Z
LAST-MODIFIED:20220216T233037Z
UID:5179-1660910400-1660942800@thunderroad.info
SUMMARY:Friday\, August 19\, 2021
DESCRIPTION:
URL:https://thunderroad.info/aberdeen/hour/friday-august-19-2021/
END:VEVENT
END:VCALENDAR