BEGIN:VCALENDAR
VERSION:2.0
PRODID:-//Thunder Road Aberdeen - ECPv4.6.1//NONSGML v1.0//EN
CALSCALE:GREGORIAN
METHOD:PUBLISH
X-WR-CALNAME:Thunder Road Aberdeen
X-ORIGINAL-URL:https://thunderroad.info/aberdeen
X-WR-CALDESC:Events for Thunder Road Aberdeen
BEGIN:VEVENT
DTSTART;TZID=UTC-6:20250815T120000
DTEND;TZID=UTC-6:20250815T193000
DTSTAMP:20260424T093140
CREATED:20250205T004356Z
LAST-MODIFIED:20250205T004356Z
UID:6194-1755259200-1755286200@thunderroad.info
SUMMARY:Friday\, August 15\, 2025
DESCRIPTION:
URL:https://thunderroad.info/aberdeen/hour/friday-august-15-2025/
END:VEVENT
END:VCALENDAR