BEGIN:VCALENDAR
VERSION:2.0
PRODID:-//Thunder Road Aberdeen - ECPv4.6.1//NONSGML v1.0//EN
CALSCALE:GREGORIAN
METHOD:PUBLISH
X-WR-CALNAME:Thunder Road Aberdeen
X-ORIGINAL-URL:https://thunderroad.info/aberdeen
X-WR-CALDESC:Events for Thunder Road Aberdeen
BEGIN:VEVENT
DTSTART;TZID=UTC-6:20260814T120000
DTEND;TZID=UTC-6:20260814T193000
DTSTAMP:20260422T061607
CREATED:20260225T192009Z
LAST-MODIFIED:20260225T192009Z
UID:6459-1786708800-1786735800@thunderroad.info
SUMMARY:Friday\, August 14\, 2026
DESCRIPTION:
URL:https://thunderroad.info/aberdeen/hour/friday-august-14-2026/
END:VEVENT
END:VCALENDAR