BEGIN:VCALENDAR
VERSION:2.0
PRODID:-//Thunder Road Aberdeen - ECPv4.6.1//NONSGML v1.0//EN
CALSCALE:GREGORIAN
METHOD:PUBLISH
X-WR-CALNAME:Thunder Road Aberdeen
X-ORIGINAL-URL:https://thunderroad.info/aberdeen
X-WR-CALDESC:Events for Thunder Road Aberdeen
BEGIN:VEVENT
DTSTART;TZID=UTC-6:20250801T120000
DTEND;TZID=UTC-6:20250801T213000
DTSTAMP:20260422T130317
CREATED:20250205T004349Z
LAST-MODIFIED:20250205T004349Z
UID:6180-1754049600-1754083800@thunderroad.info
SUMMARY:Friday\, August 1\, 2025
DESCRIPTION:
URL:https://thunderroad.info/aberdeen/hour/friday-august-1-2025/
END:VEVENT
END:VCALENDAR