BEGIN:VCALENDAR
VERSION:2.0
PRODID:-//Thunder Road Aberdeen - ECPv4.6.1//NONSGML v1.0//EN
CALSCALE:GREGORIAN
METHOD:PUBLISH
X-WR-CALNAME:Thunder Road Aberdeen
X-ORIGINAL-URL:https://thunderroad.info/aberdeen
X-WR-CALDESC:Events for Thunder Road Aberdeen
BEGIN:VEVENT
DTSTART;TZID=UTC-6:20210806T120000
DTEND;TZID=UTC-6:20210806T213000
DTSTAMP:20260425T171029
CREATED:20210124T191343Z
LAST-MODIFIED:20210124T191343Z
UID:4839-1628251200-1628285400@thunderroad.info
SUMMARY:Friday\, August 06\, 2021
DESCRIPTION:
URL:https://thunderroad.info/aberdeen/hour/friday-august-06-2021/
END:VEVENT
END:VCALENDAR