BEGIN:VCALENDAR
VERSION:2.0
PRODID:-//Thunder Road Aberdeen - ECPv4.6.1//NONSGML v1.0//EN
CALSCALE:GREGORIAN
METHOD:PUBLISH
X-WR-CALNAME:Thunder Road Aberdeen
X-ORIGINAL-URL:https://thunderroad.info/aberdeen
X-WR-CALDESC:Events for Thunder Road Aberdeen
BEGIN:VEVENT
DTSTART;TZID=UTC-6:20220805T120000
DTEND;TZID=UTC-6:20220805T213000
DTSTAMP:20260424T222002
CREATED:20220216T233029Z
LAST-MODIFIED:20220216T233029Z
UID:5165-1659700800-1659735000@thunderroad.info
SUMMARY:Friday\, August 05\, 2022
DESCRIPTION:
URL:https://thunderroad.info/aberdeen/hour/friday-august-05-2022/
END:VEVENT
END:VCALENDAR